BEGIN:VCALENDAR
VERSION:2.0
PRODID:-//マエノミドリ OFFICIAL WEBSITE - ECPv6.9.0//NONSGML v1.0//EN
CALSCALE:GREGORIAN
METHOD:PUBLISH
X-WR-CALNAME:マエノミドリ OFFICIAL WEBSITE
X-ORIGINAL-URL:https://maenomidori.com
X-WR-CALDESC:マエノミドリ OFFICIAL WEBSITE のイベント
REFRESH-INTERVAL;VALUE=DURATION:PT1H
X-Robots-Tag:noindex
X-PUBLISHED-TTL:PT1H
BEGIN:VTIMEZONE
TZID:Asia/Tokyo
BEGIN:STANDARD
TZOFFSETFROM:+0900
TZOFFSETTO:+0900
TZNAME:JST
DTSTART:20200101T000000
END:STANDARD
END:VTIMEZONE
BEGIN:VEVENT
DTSTART;VALUE=DATE:20250809
DTEND;VALUE=DATE:20250810
DTSTAMP:20260423T195326
CREATED:20250521T070309Z
LAST-MODIFIED:20250620T014522Z
UID:40559-1754697600-1754783999@maenomidori.com
SUMMARY:なかじ生誕祭 マエノミドリYUTA合同生祭
DESCRIPTION:⚫︎日時 \n2025年8月9日(土) \nOPEN 17:00 / START 17:30 \n  \n⚫︎会場 \nときわ台Cave \n  \n⚫︎チケット \n前売チケット ¥3\,500(ドリンク代別途) \nhttps://tiget.net/events/406519 \nお祝い前売チケット¥4\,000(ドリンク代別途) \n当日チケット ¥4\,000(ドリンク代別途) \nお祝い当日チケット ¥4\,500(ドリンク代別途) \n配信チケット ¥2\,500(アーカイブ14日間視聴可能) \nhttps://twitcasting.tv/c:cavetokiwadai/shopcart/379476 \n会場＋配信チケット ¥5\,000(ドリンク代別途)
URL:https://maenomidori.com/event/%e3%81%a8%e3%81%8d%e3%82%8f%e5%8f%b0cave/
LOCATION:ときわ台Cave\, 東京都板橋区常盤台1-2-5 町田ビルB1\, 174-0071
CATEGORIES:SCHEDULE
END:VEVENT
BEGIN:VEVENT
DTSTART;VALUE=DATE:20250720
DTEND;VALUE=DATE:20250721
DTSTAMP:20260423T195326
CREATED:20250521T070128Z
LAST-MODIFIED:20250521T070342Z
UID:40554-1752969600-1753055999@maenomidori.com
SUMMARY:Gathering
DESCRIPTION:⚫︎日時 \n2025年7月20日(日) \nOPEN 13:30 / START 14 :00 \n  \n⚫︎会場 \n上野Classic Tokyo \n  \n⚫︎チケット \n当日チケット ¥3\,500(ドリンク代別途) \nhttps://tiget.net/events/399279
URL:https://maenomidori.com/event/%e4%b8%8a%e9%87%8eclassic-tokyo/
LOCATION:上野Classic Tokyo\, 東京都台東区上野2-9-6 大和ビル 1F\, 110-0005
CATEGORIES:SCHEDULE
END:VEVENT
BEGIN:VEVENT
DTSTART;VALUE=DATE:20250715
DTEND;VALUE=DATE:20250716
DTSTAMP:20260423T195326
CREATED:20250521T065504Z
LAST-MODIFIED:20250612T175847Z
UID:40552-1752537600-1752623999@maenomidori.com
SUMMARY:GIRLS!GIRLS!RELATION!
DESCRIPTION:⚫︎日時 \n2025年7月15日(火) \nOPEN 17:00 / START 17:30 \n  \n⚫︎会場 \n渋谷STAR LOUNGE \n  \n⚫︎チケット \n前売チケット ¥3\,500(ドリンク代別途) \nhttps://t.livepocket.jp/e/o4pbf \n当日チケット ¥4\,000(ドリンク代別途) \n配信チケット ¥2\,500(アーカイブ14日間視聴可能) \nhttps://twitcasting.tv/nakazimax0812/shopcart/377859 \n会場＋配信チケット ¥5\,000(ドリンク代別途)
URL:https://maenomidori.com/event/%e6%b8%8b%e8%b0%b7star-lounge-2/
LOCATION:渋谷STAR LOUNGE\, 東京都渋谷区宇田川町4-7トウセン宇田川ビル1Ｆ\, 〒150-0042
CATEGORIES:SCHEDULE
END:VEVENT
BEGIN:VEVENT
DTSTART;VALUE=DATE:20250714
DTEND;VALUE=DATE:20250715
DTSTAMP:20260423T195326
CREATED:20250521T065337Z
LAST-MODIFIED:20250620T014250Z
UID:40549-1752451200-1752537599@maenomidori.com
SUMMARY:anniversary of meeting vol.12
DESCRIPTION:⚫︎日時 \n2025年7月14日(月) \nOPEN 18:20 / START 18:45 \n  \n⚫︎会場 \n渋谷malcolm \n  \n⚫︎チケット \n前売チケット ¥3\,500(ドリンク代別途) \nhttps://tiget.net/events/404620 \n当日チケット ¥\,4\,000(ドリンク代別途)
URL:https://maenomidori.com/event/%e6%b8%8b%e8%b0%b7malcolm/
LOCATION:渋谷malcolm\, 東京都渋谷区宇田川町30-5 JOWビルB1F\, 150-0042
CATEGORIES:SCHEDULE
END:VEVENT
BEGIN:VEVENT
DTSTART;VALUE=DATE:20250713
DTEND;VALUE=DATE:20250714
DTSTAMP:20260423T195326
CREATED:20250525T162211Z
LAST-MODIFIED:20250612T172917Z
UID:40567-1752364800-1752451199@maenomidori.com
SUMMARY:夏祭り!!ときわ台マルシェ＆コンサート2025
DESCRIPTION:⚫︎日時 \n2025年7月13日(日) \nイベントSTART 11:00 \n  \n⚫︎会場 \nときわ台駅 北口ロータリー \n  \n⚫︎チケット \n来場無料 \n  \n・12:00より先着200名様にかき氷1杯プレゼント \n・マルシェ出店 \nフード、ドリンク、雑貨等 多数ブース出店 \n・お子様遊び \nヨーヨー釣り等家族で楽しめます
URL:https://maenomidori.com/event/%e3%81%a8%e3%81%8d%e3%82%8f%e5%8f%b0/
CATEGORIES:SCHEDULE
END:VEVENT
BEGIN:VEVENT
DTSTART;VALUE=DATE:20250706
DTEND;VALUE=DATE:20250707
DTSTAMP:20260423T195326
CREATED:20250525T162005Z
LAST-MODIFIED:20250612T170656Z
UID:40565-1751760000-1751846399@maenomidori.com
SUMMARY:千葉
DESCRIPTION:⚫︎日時 \n2025年7月6日(日) \nOPEN : / START : \n  \n⚫︎会場 \n  \n  \n⚫︎チケット \n前売チケット ¥(ドリンク代別途) \n  \n当日チケット ¥(ドリンク代別途)
URL:https://maenomidori.com/event/%e5%8d%83%e8%91%89/
CATEGORIES:SCHEDULE
END:VEVENT
BEGIN:VEVENT
DTSTART;VALUE=DATE:20250619
DTEND;VALUE=DATE:20250620
DTSTAMP:20260423T195326
CREATED:20250521T060720Z
LAST-MODIFIED:20250521T065003Z
UID:40543-1750291200-1750377599@maenomidori.com
SUMMARY:Cave 8th ANNIVERSARY 感謝祭F INAL
DESCRIPTION:⚫︎日時 \n2025年6月19日(木) \nOPEN 18:40 / START 19:00 \n  \n⚫︎会場 \nときわ台Cave \n  \n⚫︎チケット \n前売チケット ¥3\,500(ドリンク代別途) \nhttps://tiget.net/events/398097 \n当日チケット ¥4\,000(ドリンク代別途) \n配信チケット ¥2\,500(アーカイブ14日間視聴可能) \nhttps://twitcasting.tv/c:cavetokiwadai/shopcart/373413 \n会場＋配信チケット ¥5\,000(ドリンク代別途)
URL:https://maenomidori.com/event/cave-8th-anniversary-%e6%84%9f%e8%ac%9d%e7%a5%adf-inal/
LOCATION:ときわ台Cave\, 東京都板橋区常盤台1-2-5 町田ビルB1\, 174-0071
CATEGORIES:SCHEDULE
END:VEVENT
BEGIN:VEVENT
DTSTART;VALUE=DATE:20250618
DTEND;VALUE=DATE:20250619
DTSTAMP:20260423T195326
CREATED:20250521T055651Z
LAST-MODIFIED:20250612T175253Z
UID:40541-1750204800-1750291199@maenomidori.com
SUMMARY:UTOPIA vol.24
DESCRIPTION:⚫︎日時 \n2025年6月18日(水) \nOPEN 18:00 / START 18:30 \n  \n⚫︎会場 \n四谷LOTUS \n  \n⚫︎チケット \n¥3\,500(ドリンク代別途) \nhttps://main-grabss.ssl-lolipop.jp/grabss/tiget/maintenance.html \n 
URL:https://maenomidori.com/event/%e5%9b%9b%e8%b0%b7lotus/
LOCATION:四谷LOTUS\, 東京都新宿区四谷3-4-3 SCビルB1\, 東京都\, 〒160-0004\, 日本
CATEGORIES:SCHEDULE
END:VEVENT
BEGIN:VEVENT
DTSTART;VALUE=DATE:20250526
DTEND;VALUE=DATE:20250527
DTSTAMP:20260423T195326
CREATED:20250521T055321Z
LAST-MODIFIED:20250612T170316Z
UID:40535-1748217600-1748303999@maenomidori.com
SUMMARY:Grande Epoque -4th ANNIVERSARY-
DESCRIPTION:⚫︎日時 \n2025年5月26日(月) \nOPEN 18:40 / START 19:00 \n  \n⚫︎会場 \n駒沢Camited \n  \n⚫︎チケット \n来場チケット ¥3\,000(ドリンク代別途) \nhttps://tiget.net/events/394529 \n当日チケット ¥3\,500(ドリンク代別途) \n配信チケット ¥2\,500(アーカイブ14日間視聴可能) \nhttps://twitcasting.tv/kmzw_camited/shopcart/370752
URL:https://maenomidori.com/event/grande-epoque-9th-anniversary/
LOCATION:駒沢Camped\, 東京都世田谷区上馬4-11-20 上馬パピリオン B-1\, 154-0011
CATEGORIES:SCHEDULE
END:VEVENT
BEGIN:VEVENT
DTSTART;VALUE=DATE:20250524
DTEND;VALUE=DATE:20250525
DTSTAMP:20260423T195326
CREATED:20250521T054424Z
LAST-MODIFIED:20250521T064809Z
UID:40530-1748044800-1748131199@maenomidori.com
SUMMARY:FORCE HOUR
DESCRIPTION:⚫︎日時 \n2025年5月24日(土) \nSTART 19:00 \n  \n⚫︎会場 \nmusic bar Apt. \n  \n⚫︎チケット \n来場チケット ¥1\,500
URL:https://maenomidori.com/event/force-hour/
LOCATION:music bar Apt.\, 東京都目黒区祐天寺1-22-6中村ビル301\, 153-0052
CATEGORIES:SCHEDULE
END:VEVENT
BEGIN:VEVENT
DTSTART;VALUE=DATE:20250523
DTEND;VALUE=DATE:20250524
DTSTAMP:20260423T195326
CREATED:20250519T150420Z
LAST-MODIFIED:20250519T151802Z
UID:40516-1747958400-1748044799@maenomidori.com
SUMMARY:RanaB presents Re:
DESCRIPTION:⚫︎日時 \n2025年5月23日(金) \nOPEN 17:40 / START 18:10 \n  \n⚫︎会場 \n西永福JAM \n  \n⚫︎チケット \n前売りチケット ¥3\,000(当日1drink別途) \nhttps://tiget.net/events/395084 \n  \n当日チケット ¥4\,000(1drink別途) \n※会場受付にてお支払い \n  \n配信チケット ¥2\,500 \nhttps://twitcasting.tv/nishieifukujam/shopcart/370879 \n 
URL:https://maenomidori.com/event/ranab-presents-re/
LOCATION:西永福JAM\, 東京都杉並区永福3-34-14（B1F）\, 〒168-0064
CATEGORIES:SCHEDULE
END:VEVENT
BEGIN:VEVENT
DTSTART;VALUE=DATE:20250329
DTEND;VALUE=DATE:20250330
DTSTAMP:20260423T195326
CREATED:20250128T003528Z
LAST-MODIFIED:20250521T054514Z
UID:40310-1743206400-1743292799@maenomidori.com
SUMMARY:NAKAJI FESTIBAL
DESCRIPTION:⚫︎日時 \n2025年3月29日(土) \nOPEN 14:00 / START 14:30 \n  \n⚫︎会場 \n秋葉原ZEST \n  \n⚫︎チケット \n前売りチケット ¥3\,900(当日1drink別途) \nhttps://t.livepocket.jp/e/s733n \n  \n当日チケット ¥4\,400(1drink別途) \n※会場受付にてお支払い \n  \n配信チケット ¥2\,500(アーカイブ14日間視聴可能) \nhttps://twitcasting.tv/nakazimax0812/shopcart/355997 \n  \n会場＋配信チケット ¥5\,500(1drink別途) \n※配信は、本番終了後メッセージにてURLを送らせていただきます。 \nhttps://t.livepocket.jp/e/s733n
URL:https://maenomidori.com/event/nakaji-festibal/
LOCATION:秋葉原ZEST\, 東京都千代田区外神田3-2-14 B1F\, 〒101-0021
CATEGORIES:SCHEDULE
END:VEVENT
BEGIN:VEVENT
DTSTART;VALUE=DATE:20250328
DTEND;VALUE=DATE:20250329
DTSTAMP:20260423T195326
CREATED:20250128T002732Z
LAST-MODIFIED:20250521T054501Z
UID:40302-1743120000-1743206399@maenomidori.com
SUMMARY:NAKAJI FESTIVAL
DESCRIPTION:⚫︎日時 \n2025年3月28日(金) \nOPEN 17:00 / START 17:30 \n  \n⚫︎会場 \n西永福JAM \n  \n⚫︎チケット \n前売りチケット ¥3\,500(当日1drink別途) \nhttps://t.livepocket.jp/e/3_q_a \n  \n当日チケット ¥4\,000(1drink別途) \n※会場受付にてお支払い \n  \n配信チケット ¥2\,500(アーカイブ14日間視聴可能) \nhttps://twitcasting.tv/nakazimax0812/shopcart/355993 \n  \n会場＋配信チケット ¥5\,000(1drink別途) \n※配信は、本番終了後メッセージにてURLを送らせていただきます。 \nhttps://t.livepocket.jp/e/3_q_a
URL:https://maenomidori.com/event/nakaji-festival/
LOCATION:西永福JAM\, 東京都杉並区永福3-34-14（B1F）\, 〒168-0064
CATEGORIES:SCHEDULE
END:VEVENT
BEGIN:VEVENT
DTSTART;VALUE=DATE:20250325
DTEND;VALUE=DATE:20250326
DTSTAMP:20260423T195326
CREATED:20250128T005053Z
LAST-MODIFIED:20250521T054448Z
UID:40318-1742860800-1742947199@maenomidori.com
SUMMARY:渋谷STAR LOUNGE
DESCRIPTION:⚫︎日時 \n2025年3月25日(火) \nOPEN 1: / START 1: \n  \n⚫︎会場 \n渋谷STAR LOUNGE \n  \n⚫︎チケット \n来場チケット ¥(当日1drink別途) \n配信チケット ¥(アーカイブ日間視聴可能)
URL:https://maenomidori.com/event/%e6%b8%8b%e8%b0%b7star-lounge/
LOCATION:渋谷STAR LOUNGE\, 東京都渋谷区宇田川町4-7トウセン宇田川ビル1Ｆ\, 〒150-0042
CATEGORIES:SCHEDULE
END:VEVENT
BEGIN:VEVENT
DTSTART;VALUE=DATE:20250307
DTEND;VALUE=DATE:20250308
DTSTAMP:20260423T195326
CREATED:20250112T115856Z
LAST-MODIFIED:20250120T214109Z
UID:40139-1741305600-1741391999@maenomidori.com
SUMMARY:UTOPIA vol.21
DESCRIPTION:⚫︎日時 \n2025年3月7日(金) \nOPEN 17:30予定 / START 18:00予定 \n  \n⚫︎会場 \n四谷LOTUS \n  \n⚫︎チケット \n来場チケット ¥3\,500(当日1drink別途)
URL:https://maenomidori.com/event/utopia-vol-21/
LOCATION:四谷LOTUS\, 東京都新宿区四谷3-4-3 SCビルB1\, 東京都\, 〒160-0004\, 日本
CATEGORIES:SCHEDULE
END:VEVENT
BEGIN:VEVENT
DTSTART;VALUE=DATE:20250301
DTEND;VALUE=DATE:20250302
DTSTAMP:20260423T195326
CREATED:20250112T115542Z
LAST-MODIFIED:20250120T213511Z
UID:40136-1740787200-1740873599@maenomidori.com
SUMMARY:cobalt
DESCRIPTION:⚫︎日時 \n2025年3月1日(土) \nOPEN 18:00 / START 18:30 \n  \n⚫︎会場 \n吉祥寺SHUFFLE \n  \n⚫︎チケット \n来場チケット ¥3\,500(当日1drink別途) \nhttps://tiget.net/events/372115
URL:https://maenomidori.com/event/%e5%9b%bd%e7%94%9f%e5%84%aa%e5%a4%aa-presents-live%e3%80%8ccobalt%e3%80%8d/
LOCATION:吉祥寺shuffle\, 東京都武蔵野市吉祥寺南町2丁目6-10　フジパームビルB1F\, 東京都\, 〒180-0003\, 日本
CATEGORIES:SCHEDULE
END:VEVENT
BEGIN:VEVENT
DTSTART;VALUE=DATE:20250216
DTEND;VALUE=DATE:20250217
DTSTAMP:20260423T195326
CREATED:20250112T115107Z
LAST-MODIFIED:20250128T001012Z
UID:40132-1739664000-1739750399@maenomidori.com
SUMMARY:REVIVE
DESCRIPTION:⚫︎日時 \n2025年2月16日(日) \nOPEN 17:30 / START 18:00 \n  \n⚫︎会場 \n新宿ROTT \n  \n⚫︎チケット \n来場チケット ¥4\,000(当日1drink別途) \nhttps://t.co/1uTS1NbfiA \n配信チケット ¥4\,000(アーカイブ日間視聴可能) \nhttps://twitcasting.tv/c:info_harksb/shopcart/356019
URL:https://maenomidori.com/event/%e5%a4%a7%e7%9f%b3%e8%a3%95%e5%a4%aa%e9%83%8e-%e4%b8%bb%e5%82%aclive/
LOCATION:新宿ROTT\, 東京都新宿区歌舞伎町1-2-13 新光ビルB2\, 東京都\, 東京都\, 日本
CATEGORIES:SCHEDULE
END:VEVENT
BEGIN:VEVENT
DTSTART;VALUE=DATE:20250124
DTEND;VALUE=DATE:20250125
DTSTAMP:20260423T195326
CREATED:20250112T114758Z
LAST-MODIFIED:20250120T213651Z
UID:40129-1737676800-1737763199@maenomidori.com
SUMMARY:CreAto AFTER LIVE「舞い散る美しさ」afterlive〜第二章幕開け〜
DESCRIPTION:⚫︎日時 \n2025年1月24日(金) \nOPEN 18:30 / START 19:00 \n  \n⚫︎会場 \n新宿ROTT \n  \n⚫︎チケット \n来場チケット ¥4\,000(当日1drink別途) \nhttps://t.livepocket.jp/e/pahua \n配信チケット ¥4\,000(アーカイブ14日間視聴可能) \nhttps://twitcasting.tv/c:info_harksb/shopcart/349539 \n 
URL:https://maenomidori.com/event/creato-after-live%e3%80%8c%e8%88%9e%e3%81%84%e6%95%a3%e3%82%8b%e7%be%8e%e3%81%97%e3%81%95%e3%80%8dafterlive%e3%80%9c%e7%ac%ac%e4%ba%8c%e7%ab%a0%e5%b9%95%e9%96%8b%e3%81%91%e3%80%9c/
LOCATION:新宿ROTT\, 東京都新宿区歌舞伎町1-2-13 新光ビルB2\, 東京都\, 東京都\, 日本
CATEGORIES:SCHEDULE
END:VEVENT
BEGIN:VEVENT
DTSTART;VALUE=DATE:20250121
DTEND;VALUE=DATE:20250122
DTSTAMP:20260423T195326
CREATED:20250112T114217Z
LAST-MODIFIED:20250120T205922Z
UID:40124-1737417600-1737503999@maenomidori.com
SUMMARY:ROTT SOUNDS
DESCRIPTION:⚫︎日時 \n2025年1月21日(火) \nOPEN 18:30 / START 19:00 \n  \n⚫︎会場 \n新宿ROTT \n  \n⚫︎チケット \n来場チケット ¥4\,000(ドリンク代別途) \nhttps://t.livepocket.jp/e/nxijr \n配信チケット ¥4\,000(アーカイブ7日間視聴可能) \nhttps://twitcasting.tv/c:info_harksb/shopcart/353738
URL:https://maenomidori.com/event/rott-sounds/
CATEGORIES:SCHEDULE
END:VEVENT
BEGIN:VEVENT
DTSTART;VALUE=DATE:20250117
DTEND;VALUE=DATE:20250118
DTSTAMP:20260423T195326
CREATED:20250112T111848Z
LAST-MODIFIED:20250120T210931Z
UID:40118-1737072000-1737158399@maenomidori.com
SUMMARY:ダンサーSERIKA ワンマンライブ「舞い散る美しさ。」
DESCRIPTION:  \nダンサーSERIKA ワンマンライブ「舞い散る美しさ。」にマエノミドリがオープニングゲストとして出演。 \n  \n⚫︎日時 \n2025年1月17日(金) \nOPEN 18:00 / START 19:00 \n  \n⚫︎会場 \n恵比寿CreAto \n  \n⚫︎チケット \n来場チケット ¥5\,000(当日1drink別途) \nhttps://t.livepocket.jp/e/032wb \n配信チケット ¥5\,000(アーカイブ14日間視聴可能) \nhttps://twitcasting.tv/info_harksb/shopcart/330718 \n・・・・・ \n来場VIPチケット ¥15\,000 \n配信VIPチケット ¥8\,000
URL:https://maenomidori.com/event/%e3%83%80%e3%83%b3%e3%82%b5%e3%83%bcserika-%e3%83%af%e3%83%b3%e3%83%9e%e3%83%b3%e3%83%a9%e3%82%a4%e3%83%96%e3%80%8c%e8%88%9e%e3%81%84%e6%95%a3%e3%82%8b%e7%be%8e%e3%81%97%e3%81%95%e3%80%82%e3%80%8d/
LOCATION:恵比寿CreAto\, 東京都渋谷区東3丁目14-19 オークヒルズ B1F\, 東京\, 東京都\, 150-0011\, 日本
CATEGORIES:SCHEDULE
END:VEVENT
BEGIN:VEVENT
DTSTART;VALUE=DATE:20200426
DTEND;VALUE=DATE:20200427
DTSTAMP:20260423T195326
CREATED:20200215T111547Z
LAST-MODIFIED:20200216T055414Z
UID:418-1587859200-1587945599@maenomidori.com
SUMMARY:某イベント
DESCRIPTION:
URL:https://maenomidori.com/event/%e6%9f%90%e3%82%a4%e3%83%99%e3%83%b3%e3%83%88-4/
CATEGORIES:SCHEDULE
END:VEVENT
BEGIN:VEVENT
DTSTART;TZID=Asia/Tokyo:20200325T173000
DTEND;TZID=Asia/Tokyo:20200325T230000
DTSTAMP:20260423T195326
CREATED:20200215T111522Z
LAST-MODIFIED:20200216T055426Z
UID:416-1585157400-1585177200@maenomidori.com
SUMMARY:某イベント
DESCRIPTION:
URL:https://maenomidori.com/event/%e6%9f%90%e3%82%a4%e3%83%99%e3%83%b3%e3%83%88-3/
LOCATION:上野untitled\, 台東区上野桜木１−５−６　シーダーレジデンス　 地下一階\, 東京\, 110-0002\, 日本
CATEGORIES:SCHEDULE
END:VEVENT
BEGIN:VEVENT
DTSTART;TZID=Asia/Tokyo:20200319T170000
DTEND;TZID=Asia/Tokyo:20200319T230000
DTSTAMP:20260423T195326
CREATED:20200215T111417Z
LAST-MODIFIED:20200229T080616Z
UID:410-1584637200-1584658800@maenomidori.com
SUMMARY:SEASONS（公演中止）
DESCRIPTION:＊こちらの公演は新型ウイルス（コロナウイルス）感染防止のためイベントの中止が決定いたしました。\n楽しみにしていた方々大変申し訳ございません。何卒よろしくお願いいたします。\n\n藤井達也 主催「SEASONS」開催!!\n日程：2020/3/19(木)\n時間：開場 17:00 / 開演 17:30\n場所：VUENOS\n料金：前売 ¥3\,500- / 当日 ¥4\,000- (共に1D別)\nチケット：https://eplus.jp/sf/detail/3200870001-P0030001\n先行抽選受付期間：2020/1/30(木)～2020/2/8(土)23:59\n一般発売期間：2020/2/19(木) 12:00 ～\n出演者：\n藤井達也/WAVE/内田珠鈴/Gear 2nd/STAY/DJ HIDe/野間一輝/マエノミドリ/and more…
URL:https://maenomidori.com/event/seasons/
CATEGORIES:SCHEDULE
END:VEVENT
BEGIN:VEVENT
DTSTART;TZID=Asia/Tokyo:20200316T173000
DTEND;TZID=Asia/Tokyo:20200316T230000
DTSTAMP:20260423T195326
CREATED:20200215T111230Z
LAST-MODIFIED:20200316T145734Z
UID:406-1584379800-1584399600@maenomidori.com
SUMMARY:KEN EBISAWA presents MONDAY NIGHT FEVER!! vol.3（公演延期）
DESCRIPTION:＊こちらの公演は新型ウイルス（コロナウイルス）感染防止のためイベントの中止が決定いたしました。\n楽しみにしていた方々大変申し訳ございません。何卒よろしくお願いいたします。\nAdv ¥3\,000 / day ¥3\,500 別途1drink \nイープラスはこちら！ \nhttps://eplus.jp/sf/detail/3205400001-P0030001P021001?P1=0175 \n入場順 \n1.eプラス 2.予約 3.当日 \n(ASAKUSA GOLD SOUNDS)
URL:https://maenomidori.com/event/%e6%9f%90%e3%82%a4%e3%83%99%e3%83%b3%e3%83%88-2/
LOCATION:浅草Gold Sounds
CATEGORIES:SCHEDULE
END:VEVENT
BEGIN:VEVENT
DTSTART;TZID=Asia/Tokyo:20200315T120000
DTEND;TZID=Asia/Tokyo:20200315T190000
DTSTAMP:20260423T195326
CREATED:20200215T111156Z
LAST-MODIFIED:20200229T080733Z
UID:404-1584273600-1584298800@maenomidori.com
SUMMARY:IWGP FES（公演延期）
DESCRIPTION:＊こちらの公演は新型ウイルス（コロナウイルス）感染防止のためこの日のイベントの開催中止が決定いたしました。現在６月２１日（日）に延期予定とのことです。\n楽しみにしていた方々大変申し訳ございません。何卒よろしくお願いいたします。\n  \nSTART / CLOSE 12:00 / 19:00 \n観覧無料 \n  \n出演 \nRADIO FISH / TRIQSTAR / 響道宴FReE Cool / RAIZEN / New Jack Skills / ダンサー インティライミ / xD / パフォーマーチーム PADMA \nRED SOUL POWERS / 松村雄介 / ニュースタイルアフリカンズ / マエノミドリ / STUDIO・Breathing / カラソルCOLORSL / Pダンサーず⭐︎リトル / JEWELS \nタマリキ埼玉アイタペアペア / wa-shoiダンス教室 / twinkl SMILE / 古武道 bodyart&performance / BUSTA DANCE SCHOOL / ライカフラ \nNAS吉祥寺HANAKIDS/NAS 吉祥寺 HANAKIDSjr / NAS吉祥寺 HANAKIDSspecial / カラフルエボリューション with MAっSA- \n  \nMC:SOFFY
URL:https://maenomidori.com/event/%e6%9f%90%e3%82%a4%e3%83%99%e3%83%b3%e3%83%88/
LOCATION:池袋西口公園野外劇場
CATEGORIES:SCHEDULE
ORGANIZER;CN="%E7%89%B9%E5%AE%9A%E9%9D%9E%E5%96%B6%E5%88%A9%E6%B4%BB%E5%8B%95%E6%B3%95%E4%BA%BA wa-sho":MAILTO:wa-shoi@outlook.jp
END:VEVENT
BEGIN:VEVENT
DTSTART;TZID=Asia/Tokyo:20200227T193000
DTEND;TZID=Asia/Tokyo:20200227T230000
DTSTAMP:20260423T195326
CREATED:20200215T100745Z
LAST-MODIFIED:20200216T055513Z
UID:379-1582831800-1582844400@maenomidori.com
SUMMARY:第二回！マエミドオフ会(数名限定)
DESCRIPTION:参加予約はオフィシャルツイッター・各メンバーのインスタグラムのダイレクトメッセージ(DM)、maenomidori.yr@gmail.com、 \nもしくは以下の入力フォームへ、2/27オフ会参加希望の旨と一緒にお名前・人数を記載してご送信ください。 \n定員超え次第受付終了となりますのでおはやめに！ \n（会場の詳細などは受付終了次第、参加者さまへ個別へご連絡させていただきます） \n\n\n  \n\n\n\n\n\n\n\n\n\n\n お名前 (必須)\n \n \n メールアドレス (必須)\n \n \n 題名\n \n \n メッセージ本文
URL:https://maenomidori.com/event/%e3%83%9e%e3%82%a8%e3%83%9f%e3%83%89%e3%82%aa%e3%83%95%e4%bc%9a/
CATEGORIES:SCHEDULE
END:VEVENT
BEGIN:VEVENT
DTSTART;TZID=Asia/Tokyo:20200226T170000
DTEND;TZID=Asia/Tokyo:20200226T230000
DTSTAMP:20260423T195326
CREATED:20200215T110911Z
LAST-MODIFIED:20200218T133236Z
UID:398-1582736400-1582758000@maenomidori.com
SUMMARY:TORNADO vol.27
DESCRIPTION:OPEN 17:15 / START 17:30 \nADV/DOOR ¥3\,000 / ¥3\,500(1drink別途) \nマエノミドリ出演時間：20:00〜 \nチケットはLIVE/EVENTご予約フォーム・公式TwitterなどのSNSダイレクトメッセージ（DM） \nまたは maenomidori.yr@gmail.com まで、イベントの日にち、お名前、枚数を記載してご送信ください！
URL:https://maenomidori.com/event/tornado-vol-27/
CATEGORIES:SCHEDULE
END:VEVENT
BEGIN:VEVENT
DTSTART;TZID=Asia/Tokyo:20200224T160000
DTEND;TZID=Asia/Tokyo:20200224T210000
DTSTAMP:20260423T195326
CREATED:20200215T110620Z
LAST-MODIFIED:20200218T133246Z
UID:394-1582560000-1582578000@maenomidori.com
SUMMARY:FUN RHYTHM（ファンリズム） Level.2
DESCRIPTION:OPEN 16:00 CLOSE 21:00 \nADV ¥3\,800 / DOOR ¥4\,300(1drink別） \nマエノミドリ出演時間：17:10〜 \nイープラス：https://eplus.jp/sf/detail/3183770001-P0030001P021001?P1=0175 \n整理番号順でのご入場となります。
URL:https://maenomidori.com/event/fun-rhythm%ef%bc%88%e3%83%95%e3%82%a1%e3%83%b3%e3%83%aa%e3%82%ba%e3%83%a0%ef%bc%89-level-2/
CATEGORIES:SCHEDULE
END:VEVENT
END:VCALENDAR