BEGIN:VCALENDAR
VERSION:2.0
PRODID:-//マエノミドリ OFFICIAL WEBSITE - ECPv6.9.0//NONSGML v1.0//EN
CALSCALE:GREGORIAN
METHOD:PUBLISH
X-ORIGINAL-URL:https://maenomidori.com
X-WR-CALDESC:マエノミドリ OFFICIAL WEBSITE のイベント
REFRESH-INTERVAL;VALUE=DURATION:PT1H
X-Robots-Tag:noindex
X-PUBLISHED-TTL:PT1H
BEGIN:VTIMEZONE
TZID:Asia/Tokyo
BEGIN:STANDARD
TZOFFSETFROM:+0900
TZOFFSETTO:+0900
TZNAME:JST
DTSTART:20250101T000000
END:STANDARD
END:VTIMEZONE
BEGIN:VEVENT
DTSTART;VALUE=DATE:20250713
DTEND;VALUE=DATE:20250714
DTSTAMP:20260424T064527
CREATED:20250525T162211Z
LAST-MODIFIED:20250612T172917Z
UID:40567-1752364800-1752451199@maenomidori.com
SUMMARY:夏祭り!!ときわ台マルシェ＆コンサート2025
DESCRIPTION:⚫︎日時 \n2025年7月13日(日) \nイベントSTART 11:00 \n  \n⚫︎会場 \nときわ台駅 北口ロータリー \n  \n⚫︎チケット \n来場無料 \n  \n・12:00より先着200名様にかき氷1杯プレゼント \n・マルシェ出店 \nフード、ドリンク、雑貨等 多数ブース出店 \n・お子様遊び \nヨーヨー釣り等家族で楽しめます
URL:https://maenomidori.com/event/%e3%81%a8%e3%81%8d%e3%82%8f%e5%8f%b0/
CATEGORIES:SCHEDULE
END:VEVENT
END:VCALENDAR